BEGIN:VCALENDAR
VERSION:2.0
PRODID:spatie/icalendar-generator
DESCRIPTION:Veranstaltungen von Vocal Voices
X-WR-CALDESC:Veranstaltungen von Vocal Voices
REFRESH-INTERVAL;VALUE=DURATION:PT1440M
X-PUBLISHED-TTL:PT1440M
BEGIN:VTIMEZONE
TZID:Europe/Berlin
BEGIN:STANDARD
DTSTART:20241027T030000Z
TZOFFSETFROM:+0200
TZOFFSETTO:+0100
END:STANDARD
BEGIN:DAYLIGHT
DTSTART:20250330T020000Z
TZOFFSETFROM:+0100
TZOFFSETTO:+0200
END:DAYLIGHT
END:VTIMEZONE
BEGIN:VTIMEZONE
TZID:UTC
BEGIN:STANDARD
DTSTART:20250724T085419Z
TZOFFSETFROM:+0000
TZOFFSETTO:+0000
END:STANDARD
END:VTIMEZONE
BEGIN:VEVENT
UID:23-4
DTSTAMP:20260420T085419Z
SUMMARY:Chorprobe
LOCATION:
ORGANIZER;CN=Vocal Voices:MAILTO:admin@vocalvoices-wintrich.de
DTSTART;TZID=Europe/Berlin:20250404T200000
DTEND;TZID=Europe/Berlin:20250404T220000
X-ALT-DESC;FMTTYPE=TEXT/HTML:<p>Chorprobe in Wintrich</p>\n
CATEGORIES:Proben,  General
URL;VALUE=URI:https://vocalvoices-wintrich.de/mc-events/chorprobe/
METHOD:PUBLISH
END:VEVENT
END:VCALENDAR