BEGIN:VCALENDAR
VERSION:2.0
PRODID:spatie/icalendar-generator
DESCRIPTION:Veranstaltungen von Vocal Voices
X-WR-CALDESC:Veranstaltungen von Vocal Voices
REFRESH-INTERVAL;VALUE=DURATION:PT1440M
X-PUBLISHED-TTL:PT1440M
BEGIN:VTIMEZONE
TZID:Europe/Berlin
BEGIN:DAYLIGHT
DTSTART:20250330T020000Z
TZOFFSETFROM:+0100
TZOFFSETTO:+0200
END:DAYLIGHT
BEGIN:STANDARD
DTSTART:20251026T030000Z
TZOFFSETFROM:+0200
TZOFFSETTO:+0100
END:STANDARD
BEGIN:DAYLIGHT
DTSTART:20260329T020000Z
TZOFFSETFROM:+0100
TZOFFSETTO:+0200
END:DAYLIGHT
END:VTIMEZONE
BEGIN:VTIMEZONE
TZID:UTC
BEGIN:STANDARD
DTSTART:20250723T122333Z
TZOFFSETFROM:+0000
TZOFFSETTO:+0000
END:STANDARD
END:VTIMEZONE
BEGIN:VEVENT
UID:43-30
DTSTAMP:20260419T122333Z
SUMMARY:\"Choraoke\" MGV Cäcilia Gackenbach e. V.
LOCATION:
ORGANIZER;CN=Iris Fritzen:MAILTO:iris.fritzen@web.de
DTSTART;TZID=Europe/Berlin:20251115T190000
DTEND;TZID=Europe/Berlin:20251115T235900
X-ALT-DESC;FMTTYPE=TEXT/HTML:Buchfinkenzentrum\, 56412 Gackenbach
CATEGORIES:Auftritte
URL;VALUE=URI:https://vocalvoices-wintrich.de/mc-events/choraoke-mgv-caecil
 ia-gackenbach-e-v/
METHOD:PUBLISH
END:VEVENT
END:VCALENDAR