BEGIN:VCALENDAR
VERSION:2.0
PRODID:spatie/icalendar-generator
DESCRIPTION:Veranstaltungen von Vocal Voices
X-WR-CALDESC:Veranstaltungen von Vocal Voices
REFRESH-INTERVAL;VALUE=DURATION:PT1440M
X-PUBLISHED-TTL:PT1440M
BEGIN:VTIMEZONE
TZID:Europe/Berlin
BEGIN:STANDARD
DTSTART:20251026T030000Z
TZOFFSETFROM:+0200
TZOFFSETTO:+0100
END:STANDARD
BEGIN:DAYLIGHT
DTSTART:20260329T020000Z
TZOFFSETFROM:+0100
TZOFFSETTO:+0200
END:DAYLIGHT
BEGIN:STANDARD
DTSTART:20261025T030000Z
TZOFFSETFROM:+0200
TZOFFSETTO:+0100
END:STANDARD
END:VTIMEZONE
BEGIN:VTIMEZONE
TZID:UTC
BEGIN:STANDARD
DTSTART:20250725T080257Z
TZOFFSETFROM:+0000
TZOFFSETTO:+0000
END:STANDARD
END:VTIMEZONE
BEGIN:VEVENT
UID:73-56
DTSTAMP:20260421T080257Z
SUMMARY:Chorprobe
LOCATION:
ORGANIZER;CN=Iris Fritzen:MAILTO:iris.fritzen@web.de
DTSTART;TZID=Europe/Berlin:20260430T194500
DTEND;TZID=Europe/Berlin:20260430T220000
X-ALT-DESC;FMTTYPE=TEXT/HTML:
CATEGORIES:Proben
URL;VALUE=URI:https://vocalvoices-wintrich.de/mc-events/chorprobe-21/
METHOD:PUBLISH
END:VEVENT
END:VCALENDAR